Workbook
Name ActViajes: PARAMETROS!$G$1:$G$5
Name Convocatoria: PARAMETROS!$E$1:$E$6
Name Materiales: PARAMETROS!$C$1:$C$7
Name NIVELFORMACIÓN: PARAMETROS!$B$1:$B$6
Name opción: PARAMETROS!$F$1:$F$4
Name ROL: PARAMETROS!$A$1:$A$4
Name Sedes: PARAMETROS!$D$1:$D$20
Name TIPOPERSONAL: #REF!

Sheet Tabla Presupuesto Global
E1: PRESUPUESTO PARA PROYECTO DE INVESTIGACIÓN Pesos Colombianos cifras completas (Las condiciones para aplicar a cada rubro se especifican en los términos de referencia de cada convocatoria) Título Propuesta de Investigación: _________________________________________________________________
E2: Tabla 1. PRESUPUESTO GLOBAL
B3: RUBROS | D3: DESCRIPCIONES | E3: Fuentes (Miles de $)
E4: Universidad Cooperativa de Colombia | G4: Entidad1 | I4: Entidad2 | K4: Entidad3 | M4: Entidad4 | O4: Entidad5 | Q4: Entidad6 | S4: Entidad7 | U4: Entidad8 | W4: Entidad9 | Y4: Entidad10 | AA4: Total
E5: Efectivo (CONADI) | F5: Especie | G5: Efectivo | H5: Especie | I5: Efectivo | J5: Especie | K5: Efectivo | L5: Especie | M5: Efectivo | N5: Especie | O5: Efectivo | P5: Especie | Q5: Efectivo | R5: Especie | S5: Efectivo | T5: Especie | U5: Efectivo | V5: Especie | W5: Efectivo | X5: Especie | Y5: Efectivo | Z5: Especie
B6: 1.1. GASTOS DE PERSONAL | E6: =SUM(E8:E9) -> 0 | F6: =SUM(F8:F9) -> 0 | G6: =SUM(G8:G9) -> 0 | H6: =SUM(H8:H9) -> 0 | I6: =SUM(I8:I9) -> 0 | J6: =SUM(J8:J9) -> 0 | K6: =SUM(K8:K9) -> 0 | L6: =SUM(L8:L9) -> 0 | ... Z6: =SUM(Z8:Z9) -> 0 | AA6: =SUM(E6:Z6) -> 0
B7: RUBROS | C7: CÓDIGO | D7: DESCRIPCIÓN
B8: COMPENSACIÓN ORDINARIA (incluye parafiscales y seguridad social) | C8: =DESCRIPCIONES!A37 -> 0 | E8: No se financia | G8: 0 | H8: 0 | I8: 0 | J8: 0 | K8: 0 | L8: 0 | M8: 0 | N8: 0 | O8: 0 | P8: 0 | Q8: 0 | R8: 0 | S8: 0 | T8: 0 | U8: 0 | V8: 0 | W8: 0 | X8: 0 | Y8: 0 | Z8: 0 | AA8: =SUM(E8:Z8) -> 0
B9: PERSONAL DE OTRAS ENTIDADES | C9: =DESCRIPCIONES!A36 -> 0 | E9: No se financia | G9: 0 | H9: 0 | I9: 0 | J9: 0 | K9: 0 | L9: 0 | M9: 0 | N9: 0 | O9: 0 | P9: 0 | Q9: 0 | R9: 0 | S9: 0 | T9: 0 | U9: 0 | V9: 0 | W9: 0 | X9: 0 | Y9: 0 | Z9: 0 | AA9: =SUM(E9:Z9) -> 0
B10: 1.2. EQUIPOS | E10: =SUM(E12:E14) -> 0 | F10: =SUM(F12:F14) -> 0 | G10: =SUM(G12:G14) -> 0 | H10: =SUM(H12:H14) -> 0 | I10: =SUM(I12:I14) -> 0 | J10: =SUM(J12:J14) -> 0 | K10: =SUM(K12:K14) -> 0 | L10: =SUM(L12:L14) -> 0 | ... Z10: =SUM(Z12:Z14) -> 0 | AA10: =SUM(E10:Z10) -> 0
B11: RUBROS | C11: CÓDIGO | D11: DESCRIPCIÓN
A12: P20102160401 | B12: ADQUIS-EQUIPO MEDICO-CIENTIFIC | C12: =DESCRIPCIONES!A7 -> P20102160401 | D12: =IF(E12>0,"","OBLIGATORIO: Debe Rellenar esta descripcion, en caso de requerir efectivo") -> OBLIGATORIO: Debe Rellenar esta descripcion, en caso de requerir efectivo | G12: 0 | H12: 0 | I12: 0 | J12: 0 | K12: 0 | L12: 0 | M12: 0 | N12: 0 | O12: 0 | P12: 0 | Q12: 0 | R12: 0 | S12: 0 | T12: 0 | U12: 0 | V12: 0 | W12: 0 | X12: 0 | Y12: 0 | Z12: 0 | AA12: =SUM(E12:Z12) -> 0
A13: P20102160501 | B13: ADQUIS-EQUIPO COMPUTO Y COMUN | C13: =DESCRIPCIONES!A8 -> P20102160501 | D13: =IF(E13>0,"","OBLIGATORIO: Debe Rellenar esta descripcion, en caso de requerir efectivo") -> OBLIGATORIO: Debe Rellenar esta descripcion, en caso de requerir efectivo | G13: 0 | H13: 0 | I13: 0 | J13: 0 | K13: 0 | L13: 0 | M13: 0 | N13: 0 | O13: 0 | P13: 0 | Q13: 0 | R13: 0 | S13: 0 | T13: 0 | U13: 0 | V13: 0 | W13: 0 | X13: 0 | Y13: 0 | Z13: 0 | AA13: =SUM(E13:Z13) -> 0
A14: P20102160901 | B14: ADQUIS-MAQUINARIA Y EQUIPO | C14: =DESCRIPCIONES!A10 -> P20102160901 | D14: =IF(E14>0,"","OBLIGATORIO: Debe Rellenar esta descripcion, en caso de requerir efectivo") -> OBLIGATORIO: Debe Rellenar esta descripcion, en caso de requerir efectivo | E14: 0 | G14: 0 | H14: 0 | I14: 0 | J14: 0 | K14: 0 | L14: 0 | M14: 0 | N14: 0 | O14: 0 | P14: 0 | Q14: 0 | R14: 0 | S14: 0 | T14: 0 | U14: 0 | V14: 0 | W14: 0 | X14: 0 | Y14: 0 | Z14: 0 | AA14: =SUM(E14:Z14) -> 0
B15: 1.3. SOFTWARE | E15: =SUM(E17:E18) -> 0 | F15: =SUM(F17:F18) -> 0 | G15: =SUM(G17:G18) -> 0 | H15: =SUM(H17:H18) -> 0 | I15: =SUM(I17:I18) -> 0 | J15: =SUM(J17:J18) -> 0 | K15: =SUM(K17:K18) -> 0 | L15: =SUM(L17:L18) -> 0 | ... Z15: =SUM(Z17:Z18) -> 0 | AA15: =SUM(E15:Z15) -> 0
B16: RUBROS | D16: DESCRIPCIÓN
A17: P20102170201 | B17: ADQUIS-LICENCIAS | C17: =DESCRIPCIONES!A33 -> P20102170201 | D17: =IF(E17>0,"","OBLIGATORIO: Debe Rellenar esta descripcion, en caso de requerir efectivo") -> OBLIGATORIO: Debe Rellenar esta descripcion, en caso de requerir efectivo | E17: 0 | G17: 0 | H17: 0 | I17: 0 | J17: 0 | K17: 0 | L17: 0 | M17: 0 | N17: 0 | O17: 0 | P17: 0 | Q17: 0 | R17: 0 | S17: 0 | T17: 0 | U17: 0 | V17: 0 | W17: 0 | X17: 0 | Y17: 0 | Z17: 0 | AA17: =SUM(E17:Z17) -> 0
A18: P20102170301 | B18: ADQUIS-SOFTWARE | C18: =DESCRIPCIONES!A34 -> P20102170301 | D18: =IF(E18>0,"","OBLIGATORIO: Debe Rellenar esta descripcion, en caso de requerir efectivo") -> OBLIGATORIO: Debe Rellenar esta descripcion, en caso de requerir efectivo | E18: 0 | G18: 0 | H18: 0 | I18: 0 | J18: 0 | K18: 0 | L18: 0 | M18: 0 | N18: 0 | O18: 0 | P18: 0 | Q18: 0 | R18: 0 | S18: 0 | T18: 0 | U18: 0 | V18: 0 | W18: 0 | X18: 0 | Y18: 0 | Z18: 0 | AA18: =SUM(E18:Z18) -> 0
B19: 1.4. SALIDAS DE CAMPO | E19: =SUM(E21:E21) -> 0 | F19: =SUM(F21:F21) -> 0 | G19: =SUM(G21:G21) -> 0 | H19: =SUM(H21:H21) -> 0 | I19: =SUM(I21:I21) -> 0 | J19: =SUM(J21:J21) -> 0 | K19: =SUM(K21:K21) -> 0 | L19: =SUM(L21:L21) -> 0 | ... Z19: =SUM(Z21:Z21) -> 0 | AA19: =SUM(E19:Z19) -> 0
B20: RUBROS | D20: DESCRIPCIÓN
A21: P20102050301 | B21: SALIDAS DE CAMPOS Y EVENTOS ACADÉMICOS | C21: =DESCRIPCIONES!A24 -> P20102050301 | D21: =IF(E21>0,"","OBLIGATORIO: Debe Rellenar esta descripcion, en caso de requerir efectivo") -> OBLIGATORIO: Debe Rellenar esta descripcion, en caso de requerir efectivo | E21: 0 | G21: 0 | H21: 0 | I21: 0 | J21: 0 | K21: 0 | L21: 0 | M21: 0 | N21: 0 | O21: 0 | P21: 0 | Q21: 0 | R21: 0 | S21: 0 | T21: 0 | U21: 0 | V21: 0 | W21: 0 | X21: 0 | Y21: 0 | Z21: 0 | AA21: =SUM(E21:Z21) -> 0
B22: 1.5. MATERIALES Y SUMINISTROS | E22: =SUM(E24:E27) -> 0 | F22: =SUM(F24:F27) -> 0 | G22: =SUM(G24:G27) -> 0 | H22: =SUM(H24:H27) -> 0 | I22: =SUM(I24:I27) -> 0 | J22: =SUM(J24:J27) -> 0 | K22: =SUM(K24:K27) -> 0 | L22: =SUM(L24:L27) -> 0 | ... Z22: =SUM(Z24:Z27) -> 0 | AA22: =SUM(E22:Z22) -> 0
B23: RUBROS | D23: DESCRIPCIÓN
A24: P20102070101 | B24: PAPELERIA Y UTILES | C24: =DESCRIPCIONES!A13 -> P20102070101 | D24: =IF(E24>0,"","OBLIGATORIO: Debe Rellenar esta descripcion, en caso de requerir efectivo") -> OBLIGATORIO: Debe Rellenar esta descripcion, en caso de requerir efectivo | E24: 0 | G24: 0 | H24: 0 | I24: 0 | J24: 0 | K24: 0 | L24: 0 | M24: 0 | N24: 0 | O24: 0 | P24: 0 | Q24: 0 | R24: 0 | S24: 0 | T24: 0 | U24: 0 | V24: 0 | W24: 0 | X24: 0 | Y24: 0 | Z24: 0 | AA24: =SUM(E24:Z24) -> 0
A25: P20102070201 | B25: FOTOCOPIAS | C25: =DESCRIPCIONES!A14 -> P20102070201 | D25: =IF(E25>0,"","OBLIGATORIO: Debe Rellenar esta descripcion, en caso de requerir efectivo") -> OBLIGATORIO: Debe Rellenar esta descripcion, en caso de requerir efectivo | E25: 0 | G25: 0 | H25: 0 | I25: 0 | J25: 0 | K25: 0 | L25: 0 | M25: 0 | N25: 0 | O25: 0 | P25: 0 | Q25: 0 | R25: 0 | S25: 0 | T25: 0 | U25: 0 | V25: 0 | W25: 0 | X25: 0 | Y25: 0 | Z25: 0 | AA25: =SUM(E25:Z25) -> 0
A26: P20102161001 | B26: ADQUIS-ELEMENTOS DIDACTICOS | C26: =DESCRIPCIONES!A16 -> P20102161001 | D26: =IF(E26>0,"","OBLIGATORIO: Debe Rellenar esta descripcion, en caso de requerir efectivo") -> OBLIGATORIO: Debe Rellenar esta descripcion, en caso de requerir efectivo | E26: 0 | G26: 0 | H26: 0 | I26: 0 | J26: 0 | K26: 0 | L26: 0 | M26: 0 | N26: 0 | O26: 0 | P26: 0 | Q26: 0 | R26: 0 | S26: 0 | T26: 0 | U26: 0 | V26: 0 | W26: 0 | X26: 0 | Y26: 0 | Z26: 0 | AA26: =SUM(E26:Z26) -> 0
A27: P20102990603 | B27: INSUMOS PRACTICAS ACADEMICAS | C27: =DESCRIPCIONES!A20 -> P20102990603 | D27: =IF(E27>0,"","OBLIGATORIO: Debe Rellenar esta descripcion, en caso de requerir efectivo") -> OBLIGATORIO: Debe Rellenar esta descripcion, en caso de requerir efectivo | E27: 0 | G27: 0 | H27: 0 | I27: 0 | J27: 0 | K27: 0 | L27: 0 | M27: 0 | N27: 0 | O27: 0 | P27: 0 | Q27: 0 | R27: 0 | S27: 0 | T27: 0 | U27: 0 | V27: 0 | W27: 0 | X27: 0 | Y27: 0 | Z27: 0 | AA27: =SUM(E27:Z27) -> 0
B28: 1.6. SERVICIOS TÉCNICOS | E28: =SUM(E30:E31) -> 0 | F28: =SUM(F30:F31) -> 0 | G28: =SUM(G30:G31) -> 0 | H28: =SUM(H30:H31) -> 0 | I28: =SUM(I30:I31) -> 0 | J28: =SUM(J30:J31) -> 0 | K28: =SUM(K30:K31) -> 0 | L28: =SUM(L30:L31) -> 0 | ... Z28: =SUM(Z30:Z31) -> 0 | AA28: =SUM(E28:Z28) -> 0
B29: RUBROS | D29: DESCRIPCIÓN
A30: P20101020101 | B30: HONORARIOS | C30: =DESCRIPCIONES!A31 -> P20101020101 | D30: =IF(E30>0,"","OBLIGATORIO: Debe Rellenar esta descripcion, en caso de requerir efectivo") -> OBLIGATORIO: Debe Rellenar esta descripcion, en caso de requerir efectivo | E30: 0 | G30: 0 | H30: 0 | I30: 0 | J30: 0 | K30: 0 | L30: 0 | M30: 0 | N30: 0 | O30: 0 | P30: 0 | Q30: 0 | R30: 0 | S30: 0 | T30: 0 | U30: 0 | V30: 0 | W30: 0 | X30: 0 | Y30: 0 | Z30: 0 | AA30: =SUM(E30:Z30) -> 0
A31: P20101030101 | B31: SERVICIOS | C31: =DESCRIPCIONES!A32 -> P20101030101 | D31: =IF(E31>0,"","OBLIGATORIO: Debe Rellenar esta descripcion, en caso de requerir efectivo") -> OBLIGATORIO: Debe Rellenar esta descripcion, en caso de requerir efectivo | E31: 0 | G31: 0 | H31: 0 | I31: 0 | J31: 0 | K31: 0 | L31: 0 | M31: 0 | N31: 0 | O31: 0 | P31: 0 | Q31: 0 | R31: 0 | S31: 0 | T31: 0 | U31: 0 | V31: 0 | W31: 0 | X31: 0 | Y31: 0 | Z31: 0 | AA31: =SUM(E31:Z31) -> 0
B32: 1.7. BIBLIOGRAFÍA | E32: =SUM(E34:E35) -> 0 | F32: =SUM(F34:F35) -> 0 | G32: =SUM(G34:G35) -> 0 | H32: =SUM(H34:H35) -> 0 | I32: =SUM(I34:I35) -> 0 | J32: =SUM(J34:J35) -> 0 | K32: =SUM(K34:K35) -> 0 | L32: =SUM(L34:L35) -> 0 | ... Z32: =SUM(Z34:Z35) -> 0 | AA32: =SUM(E32:Z32) -> 0
B33: RUBROS | D33: DESCRIPCIÓN
A34: P20102161101 | B34: ADQUIS-MATERIAL BIBLIOGRAFICO | C34: =DESCRIPCIONES!A4 -> P20102161101 | D34: =IF(E34>0,"","OBLIGATORIO: Debe Rellenar esta descripcion, en caso de requerir efectivo") -> OBLIGATORIO: Debe Rellenar esta descripcion, en caso de requerir efectivo | E34: 0 | G34: 0 | H34: 0 | I34: 0 | J34: 0 | K34: 0 | L34: 0 | M34: 0 | N34: 0 | O34: 0 | P34: 0 | Q34: 0 | R34: 0 | S34: 0 | T34: 0 | U34: 0 | V34: 0 | W34: 0 | X34: 0 | Y34: 0 | Z34: 0 | AA34: =SUM(E34:Z34) -> 0
A35: P20102170101 | B35: ADQUIS-BASES DATOS BIBLIOGRAF | C35: =DESCRIPCIONES!A5 -> P20102170101 | D35: =IF(E35>0,"","OBLIGATORIO: Debe Rellenar esta descripcion, en caso de requerir efectivo") -> OBLIGATORIO: Debe Rellenar esta descripcion, en caso de requerir efectivo | E35: 0 | G35: 0 | H35: 0 | I35: 0 | J35: 0 | K35: 0 | L35: 0 | M35: 0 | N35: 0 | O35: 0 | P35: 0 | Q35: 0 | R35: 0 | S35: 0 | T35: 0 | U35: 0 | V35: 0 | W35: 0 | X35: 0 | Y35: 0 | Z35: 0 | AA35: =SUM(E35:Z35) -> 0
B36: 1.8. EVENTO | E36: =E38 -> 0 | F36: =F38 -> 0 | G36: =G38 -> 0 | H36: =H38 -> 0 | I36: =I38 -> 0 | J36: =J38 -> 0 | K36: =K38 -> 0 | L36: =L38 -> 0 | ... Z36: =Z38 -> 0 | AA36: =SUM(E36:Z36) -> 0
B37: RUBROS | D37: DESCRIPCIÓN
A38: P20102990801 | B38: INSCRIPCIONES EVENTOS ACADÉMICOS | C38: =DESCRIPCIONES!A35 -> P20102990801 | D38: =IF(E38>0,"","OBLIGATORIO: Debe Rellenar esta descripcion, en caso de requerir efectivo") -> OBLIGATORIO: Debe Rellenar esta descripcion, en caso de requerir efectivo | E38: 0 | G38: 0 | H38: 0 | I38: 0 | J38: 0 | K38: 0 | L38: 0 | M38: 0 | N38: 0 | O38: 0 | P38: 0 | Q38: 0 | R38: 0 | S38: 0 | T38: 0 | U38: 0 | V38: 0 | W38: 0 | X38: 0 | Y38: 0 | Z38: 0 | AA38: =SUM(E38:Z38) -> 0
B39: TOTAL | E39: =E32+E28+E22+E19+E15+E10+E6+E36 -> 0 | F39: =F32+F28+F22+F19+F15+F10+F6+F36 -> 0 | G39: =G32+G28+G22+G19+G15+G10+G6+G36 -> 0 | H39: =H32+H28+H22+H19+H15+H10+H6+H36 -> 0 | I39: =I32+I28+I22+I19+I15+I10+I6+I36 -> 0 | J39: =J32+J28+J22+J19+J15+J10+J6+J36 -> 0 | K39: =K32+K28+K22+K19+K15+K10+K6+K36 -> 0 | L39: =L32+L28+L22+L19+L15+L10+L6+L36 -> 0 | ... AA39: =AA32+AA28+AA22+AA19+AA15+AA10+AA6+AA36 -> 0

Sheet CONVENCIONES
B2: ANEXO 1
B3: Este archivo esta conformado por nueve pestañas que facilitan el diligenciamiento de las tablas de presupuesto del proyecto tal como se relacionan a continuación:
B5: Nombre de la Pestaña | E5: Observaciones
B6: Tabla Presupuesto Global | E6: * Esta tabla es equivalente al plan contable de la universidad y se diligencia con base en lo registrado en las demás tablas. * Cada columna y fila debe tener su valor en pesos colombianos y cualquier inconsistencia en el presupuesto, global o detallado, hará que la propuesta sea devuelta. * Si se presenta en la columna Total, texto en color rojo, se debe revisar la tabla respectiva para verificar los valores registrados
B7: Tabla 1.1 - Gastos Personal | E7: * Está conformado por los investigadores y/o profesionales que hacen parte del equipo de trabajo para llevar a cabo el desarrollo del proyecto. *Se cuantifica la participación de profesores vinculados a la Universidad como Tiempo Completo y Medio Tiempo y del personal de otras entidades. * Las celdas en verde claro, despliega una lista con las opciones que pueden seleccionar de acuerdo al nivel de formación y rol en el proyecto. *Con recursos del CONADI no se financia el pago de personal dedicado a actividades del proyecto (Auxiliares de invetigación, investigadores, asesores, consultores, etc)
B8: Tabla 1.2 - Equipos: | E8: * Corresponde a los equipos que se deben adquirir y utlilizar para el desarrollo del proyecto *El valor de los equipos a adquirir debe quedar en la columna de CONADI y los de uso propio donde corresponda bien sea en la columna UCC o como aportes de contrapartida.
B9: Tabla 1.3 - Software | E9: * Software especializado que se requiera adquirir para el desarrollo del proyecto, cuya licencia quede en propiedad de la Universidad Cooperativa de Colombia en el caso que sea comprada con fondos del CONADI.
B10: Tabla 1.4 - Salidas de Campo | E10: * Se refiere a: gastos de medios de transporte para el traslado a zonas de muestreo, ejecución de las labores de campo propias de la investigación, costos de combustible, aceite o alquiler de medios de transporte cuando se requiere.
B11: Tabla 1.5- Materiales y Suministros | E11: * Corresponde a los insumos de oficina o materias primas requeridos para el desarrollo del proyecto. * Las celdas en verde claro, despliega una lista con las opciones que pueden seleccionar de acuerdo al nivel de formación y rol en el proyecto.
B12: Tabla 1.6 - Servicios Técnicos | E12: * Gastos correspondientes a la prestación de servicios para el desarrollo de tareas puntuales en el proyecto.
B13: Tabla 1.7 - Bibliogafía | E13: * Corresponde a la adquisición de material bibliográfico como debidamente justificada y directamente relacionada con la temática del proyecto en la forma de libros y/o suscripciones a revistas científicas del tema.

Sheet DESCRIPCIONES
A2: CATÁLOGO DE RUBROS
A3: RUBRO | B3: DESCRIPCION DE RUBRO | C3: Rubro+Descripcion | D3: PRESUPUESTO INVESTIGACIÓN
A4: P20102161101 | B4: ADQUIS-MATERIAL BIBLIOGRAFICO | C4: P20102161101-ADQUIS-MATERIAL BIBLIOGRAFICO | D4: BIBLIOGRAFIA
A5: P20102170101 | B5: ADQUIS-BASES DATOS BIBLIOGRAF | C5: P20102170101-ADQUIS-BASES DATOS BIBLIOGRAF | D5: BIBLIOGRAFIA
A6: P20102160301 | B6: ADQUIS-MUEBLES Y EQUIPOS OFIC | C6: P20102160301-ADQUIS-MUEBLES Y EQUIPOS OFIC | D6: EQUIPOS
A7: P20102160401 | B7: ADQUIS-EQUIPO MEDICO-CIENTIFIC | C7: P20102160401-ADQUIS-EQUIPO MEDICO-CIENTIFIC | D7: EQUIPOS
A8: P20102160501 | B8: ADQUIS-EQUIPO COMPUTO Y COMUN | C8: P20102160501-ADQUIS-EQUIPO COMPUTO Y COMUN | D8: EQUIPOS
A9: P20102160601 | B9: ADQUIS-EQUIPO HOTELES Y RESTAU | C9: P20102160601-ADQUIS-EQUIPO HOTELES Y RESTAU | D9: EQUIPOS
A10: P20102160901 | B10: ADQUIS-MAQUINARIA Y EQUIPO | C10: P20102160901-ADQUIS-MAQUINARIA Y EQUIPO | D10: EQUIPOS
A11: P20102020101 | B11: ELEMENTOS DE ASEO | C11: P20102020101-ELEMENTOS DE ASEO | D11: MATERIALES Y SUMINISTROS
A12: P20102020201 | B12: ELEMENTOS DE CAFETERIA | C12: P20102020201-ELEMENTOS DE CAFETERIA | D12: MATERIALES Y SUMINISTROS
A13: P20102070101 | B13: PAPELERIA Y UTILES | C13: P20102070101-PAPELERIA Y UTILES | D13: MATERIALES Y SUMINISTROS
A14: P20102070201 | B14: FOTOCOPIAS | C14: P20102070201-FOTOCOPIAS | D14: MATERIALES Y SUMINISTROS
... A35: P20102990801 | B35: INSCRIPCIONES EVENTOS ACADEMICOS | C35: P20102990801-INSCRIPCIONE EVENTOS ACADEMICOS | D35: EVENTO
B36: PERSONAL DE OTRAS ENTIDADES
B37: COMPENSACIÓN ORDINARIA (INCLUYE PARAFISCALES Y SEGURIDAD SOCIAL)
A44: Tipos personas de contacto | B44: Descripción
A45: Codigo | B45: Descripcion
A46: 1 | B46: GERENTE
A47: 11 | B47: RECTOR
A48: 12 | B48: COMERCIAL
A49: 15 | B49: ADMINISTRADOR
A50: 16 | B50: INVESTIGADOR
A51: 18 | B51: SUBDIRECTOR GENERAL
A52: 19 | B52: SUBDIRECTOR
A53: 2 | B53: SECRETARIO
A54: 20 | B54: COORDINADOR
A55: 21 | B55: DIRECTOR GERENTE
... A93: TER | B93: SIN NIT

Sheet PARAMETROS
A1: Rol | B1: Nivel Formación: | C1: Materiales | D1: Sede | E1: Convocatoria | G1: Actividad
A2: Auxiliar de Investigación | B2: Doctor (a) | C2: Impresiones - Fotocopias | D2: Apartadó | E2: General 2014 | G2: Pasantía Investigación
A3: Director Proyecto | B3: Magíster | C3: Medios Magnéticos | D3: Arauca | E3: Fondo Contrapartida | G3: Cualificación o Capacitación
A4: Investigador - Coinvestigador | B4: Especialista | C4: Papelería | D4: Barrancabermeja | E4: SUI | G4: Desplazamiento Asesor
B5: Estudiante | C5: Reactivos | D5: Bogotá | E5: Docentes con Doctorado | G5: Visita Centro Investigación
B6: Profesional | C6: Suministros para impresora | D6: Bucaramanga
C7: Otros | D7: Cali
D8: Cartago
D9: El Espinal
D10: Ibagué
D11: INDESCO
D12: Medellín
D13: Montería
D14: Neiva
D15: Pasto
D16: Pereira
D17: Popayán
D18: Quibdó
D19: Santa Marta
D20: Villavicencio

Sheet ENTIDADES ALMACENADAS
A1: ENTIDADES ALMACENADAS | B1: Columna1 | C1: Columna2 | D1: Columna3 | E1: Columna4 | F1: Columna5 | G1: Columna6 | H1: Columna7
A2: Tercero | B2: Tipo Doc.Id | C2: Nº Documento Id. | D2: E-Mail | E2: Dirección | F2: Categorías | G2: Consideración | H2: Teléfono 1
A3: AATD-INDUSTRY S.A.S | B3: CC | C3: 79147085
A4: ALCALDIA MUNICIPAL LEJANIAS DEL META | B4: NIT | C4: 892099242-8
A5: CENTRO DE LA CIENCIA Y LA INVESTIGACIÓN FARMACEÚTICA | B5: TER | C5: 73
A6: COLCIENCIAS | B6: TER | C6: 2
A7: COLEGIO MAYOR DE ANTIOQUIA | B7: NIT | C7: 890980134-1
A8: COLGATE PALMOLIVE | B8: NIT | C8: 890300546-6
A9: CORPORACIÓN UNIVERSITARIA DE CIENCIA Y DESARROLLO - UNICIENCIA | B9: NIT | C9: 830018780-7
A10: CORPORACIÓN UNIVERSITARIA MINUTO DE DIOS | B10: NIT | C10: 800116217-2
A11: CORPORACIÓN UNIVERSITARIA REMINGTON | B11: NIT | C11: 900302082-5
A12: EJERCITO NACIONAL JOSE ILARIO LÓPEZ | B12: TER | C12: 72 | D12: dieccion@mujeryfuturo.org | E12: Calle 21 #26-21 san francisco | H12: 3105765181
A13: ESCUELA COLOMBIANA DE INGENIERÍA JULIO GARAVITO | B13: NIT | C13: 860034811-3 | D13: uhmano.records@hawaii.edu | E13: 2600 campus road, QLC001 se encuentra afueras del centro de honolulu, n la isla de Oahu | H13: 808-956-8010
A14: ESCUELA DE INGENIERÍA DE ANTIOQUIA | B14: NIT | C14: 890983722-6 | E14: av. De blasco ibañez,13 | H14: 34963864100
A15: ESCUELA SUPERIOR DE ADMINISTRACIÓN PÚBLICA | B15: NIT | C15: 899999054-7 | D15: fisabio@gva.es | E15: av catalunya 21 | H15: 961 925 700
A16: FACULTA DE COMUNICACIÓN SOCIAL | B16: TI | C16: COMSO | D16: inor@infomed.sld.cu | E16: Calle 29, La Habana | H16: (537) 8382590
A17: FACULTA DE ODONTOLOGÍA | B17: TI | C17: FODON | E17: Avenida XX Aniversario, Holguín | H17: +34986812000
A18: FACULTAD DE CIENCIAS DE LA COMUNICACIÓN | B18: TI | C18: FCCOM | D18: div03@ejercito.mil.co | E18: Av. Los Cuarteles No 80-00 Catón Militar | H18: 8234053
A19: FACULTAD DE CIENCIAS ECONÓMICAS ADMINISTRATIVAS Y CONTABLES | B19: TI | C19: FCAEC | D19: cefif@cecif.org | E19: Cra 43a No. 52sur - 99 Piso 6 | H19: (4) 560-6660
A20: FACULTAD DE DERECHO | B20: TI | C20: DEREC | E20: CALLE 93 15 59 OF 303
A21: FACULTAD DE ENFERMERIA | B21: TI | C21: ENFER | E21: Calle 56 #41-90, Boston | H21: (4) 4025500
A22: FACULTAD DE FÚTBOL | B22: TI | C22: FUTBO | E22: Carrera 45 22 D - 25 | G22: Privada | H22: 4623131
A23: FACULTAD DE INGENIERÍAS | B23: TI | C23: FINGE | E23: Torobajo, Carrera 22 No. 18-109 | G23: Pública | H23: 7313604
A24: FACULTAD DE MEDICINA | B24: TI | C24: MEDIC | E24: Calle 73 NO. 76A-354 Vía al Volador | H24: 4405100
A25: FACULTAD DE MEDICINA VETERINARIA Y ZOOTECNIA | B25: TI | C25: MEDVE | E25: Calle 70 No. 55-210 Lagos del Cacique | G25: Privada | H25: 6516500
A26: FACULTAD DE PSICOLOGÍA | B26: TI | C26: PSICO | E26: Av. 6ª 28N-102 Barrio San Vicente | H26: 6882828
A27: FACULTAD DE SALUD ORAL | B27: TI | C27: AUXSO | E27: Cra. 27B Nº 34 A sur 57 | G27: Pública | H27: 3391010
A28: FACULTAD DE SOCIOLOGÍA | B28: TI | C28: SOCIO | E28: Carrera 70 52-49 Barrio Los Colores | H28: (4) 4487666
A29: FAULTAD DE EDUCACIÓN | B29: TI | C29: FEDUC
A30: FUNDACIÓN MUJER Y FUTURO | B30: TER | C30: 66 | H30: 3220055
A31: FUNDACIÓN SALUD PARA EL TRÓPICO | B31: NIT | C31: 819003850-9 | D31: espiritualidad@uniagustiniana.edu.co | E31: Ak. 86 #11b-95 | H31: (1) 4193200
A32: FUNDACIÓN UNIVERSITARIA AUTONOMA DE LAS AMERICAS | B32: NIT | C32: 890985417-3 | E32: Cra. 4 #22 - 61 | G32: Privada | H32: (1) 2427030 ext. 1155
A33: FUNDACIÓN UNIVERSITARIA LUIS AMIGÓ | B33: NIT | C33: 890985189-9 | E33: Carrera 1 No. 18A-70 | G33: Privada | H33: 3394949
A34: FUNDACIÓN UNIVERSITARIA MARIA CANO | B34: NIT | C34: 800036781-1 | E34: Sede Ppal Carrera 9 51-11, Sede Norte Cra.10 72-50 | G34: Privada | H34: 5878797
A35: GENERALITAT VALENCIANA | B35: TER | C35: 68 | E35: Carrera 7 40-62 | G35: Privada | H35: 3208130
A36: GRUPO GENÓMICA Y SALUD | B36: TER | C36: 69 | E36: Carrera 2 No. 10-70; Rectoría: Cra.5 59A-44 | G36: Privada | H36: 3375050
A37: INSTITUCIÓN UNIVERSITARIA ANTONIO JOSE CAMACHO | B37: NIT | C37: 805000889-0 | E37: Carrera 6 No. 13-40 | G37: Privada | H37: 3276999
A38: INSTITUCIÓN UNIVERSITARIA DE ENVIGADO | B38: NIT | C38: 811000278-2 | E38: Carrera 42 No. 49 - 95
A39: INSTITUCIÓN UNIVERSITARIA PASCUAL BRAVO | B39: NIT | C39: 890980153-1 | E39: AK 45 205-59 (Autopista Norte - Km.13) | G39: Privada | H39: 6683600
A40: INSTITUCIÓN UNIVERSITARIA SALAZAR Y HERRERA | B40: NIT | C40: 811028188-1 | E40: Campus Universitario Puente del Común | G40: Privada | H40: 8615555
...
